BEGIN:VCALENDAR
VERSION:2.0
PRODID:-//Will County Beekeepers Association - ECPv6.15.20//NONSGML v1.0//EN
CALSCALE:GREGORIAN
METHOD:PUBLISH
X-ORIGINAL-URL:https://willbees.org
X-WR-CALDESC:Events for Will County Beekeepers Association
REFRESH-INTERVAL;VALUE=DURATION:PT1H
X-Robots-Tag:noindex
X-PUBLISHED-TTL:PT1H
BEGIN:VTIMEZONE
TZID:America/Chicago
BEGIN:DAYLIGHT
TZOFFSETFROM:-0600
TZOFFSETTO:-0500
TZNAME:CDT
DTSTART:20250309T080000
END:DAYLIGHT
BEGIN:STANDARD
TZOFFSETFROM:-0500
TZOFFSETTO:-0600
TZNAME:CST
DTSTART:20251102T070000
END:STANDARD
BEGIN:DAYLIGHT
TZOFFSETFROM:-0600
TZOFFSETTO:-0500
TZNAME:CDT
DTSTART:20260308T080000
END:DAYLIGHT
BEGIN:STANDARD
TZOFFSETFROM:-0500
TZOFFSETTO:-0600
TZNAME:CST
DTSTART:20261101T070000
END:STANDARD
BEGIN:DAYLIGHT
TZOFFSETFROM:-0600
TZOFFSETTO:-0500
TZNAME:CDT
DTSTART:20270314T080000
END:DAYLIGHT
BEGIN:STANDARD
TZOFFSETFROM:-0500
TZOFFSETTO:-0600
TZNAME:CST
DTSTART:20271107T070000
END:STANDARD
END:VTIMEZONE
BEGIN:VEVENT
DTSTART;TZID=America/Chicago:20260218T190000
DTEND;TZID=America/Chicago:20260218T210000
DTSTAMP:20260421T115816
CREATED:20251120T211639Z
LAST-MODIFIED:20260215T193322Z
UID:2454-1771441200-1771448400@willbees.org
SUMMARY:Association Meeting 2-18-2026
DESCRIPTION:Come to our February monthly Membership meeting to hear local and national beekeeping news\, see presentations on bee biology and hive management\, engage in discussions with other bee-interested people\, and share stories with mentors. All ages and experience levels welcome. Your first meeting requires no dues. \nSpeaker Greg Breitzke: Greg will speak about successfully transitioning your colonies from winter to spring. \nBee Blunders: Share yours and win a $20 gift card for the best story. \nProduct Review: Fran Miller will review a Frame Isolation Cage. \nAnnual Bee Package Raffle: Buy your tickets. $5 each\, 5 for $20. Winner will be drawn at the April Meeting.
URL:https://willbees.org/event/association-meeting-2-18-2026/
LOCATION:Will County Farm Bureau Building\, 100 Manhattan Rd Joliet\, IL 60433\, Joliet\, IL\, 60433\, United States
END:VEVENT
END:VCALENDAR