BEGIN:VCALENDAR
VERSION:2.0
PRODID:-//Will County Beekeepers Association - ECPv6.15.20//NONSGML v1.0//EN
CALSCALE:GREGORIAN
METHOD:PUBLISH
X-WR-CALNAME:Will County Beekeepers Association
X-ORIGINAL-URL:https://willbees.org
X-WR-CALDESC:Events for Will County Beekeepers Association
REFRESH-INTERVAL;VALUE=DURATION:PT1H
X-Robots-Tag:noindex
X-PUBLISHED-TTL:PT1H
BEGIN:VTIMEZONE
TZID:America/Chicago
BEGIN:DAYLIGHT
TZOFFSETFROM:-0600
TZOFFSETTO:-0500
TZNAME:CDT
DTSTART:20250309T080000
END:DAYLIGHT
BEGIN:STANDARD
TZOFFSETFROM:-0500
TZOFFSETTO:-0600
TZNAME:CST
DTSTART:20251102T070000
END:STANDARD
BEGIN:DAYLIGHT
TZOFFSETFROM:-0600
TZOFFSETTO:-0500
TZNAME:CDT
DTSTART:20260308T080000
END:DAYLIGHT
BEGIN:STANDARD
TZOFFSETFROM:-0500
TZOFFSETTO:-0600
TZNAME:CST
DTSTART:20261101T070000
END:STANDARD
BEGIN:DAYLIGHT
TZOFFSETFROM:-0600
TZOFFSETTO:-0500
TZNAME:CDT
DTSTART:20270314T080000
END:DAYLIGHT
BEGIN:STANDARD
TZOFFSETFROM:-0500
TZOFFSETTO:-0600
TZNAME:CST
DTSTART:20271107T070000
END:STANDARD
END:VTIMEZONE
BEGIN:VEVENT
DTSTART;TZID=America/Chicago:20260425T073000
DTEND;TZID=America/Chicago:20260425T093000
DTSTAMP:20260425T100325
CREATED:20260215T200829Z
LAST-MODIFIED:20260215T200829Z
UID:2522-1777102200-1777109400@willbees.org
SUMMARY:Breakfast with the Bees
DESCRIPTION:Zoom in and Join the Conversation \nEvery Saturday Morning at 7:30 AM Central \nMeeting ID 889 0962 1870 \nPasscode bees \ncontact James Konrad breakfastwithbees@gmail.com
URL:https://willbees.org/event/breakfast-with-the-bees-10/
LOCATION:Zoom Meeting ID 889 0962 1870 Passcode  bees
END:VEVENT
BEGIN:VEVENT
DTSTART;TZID=America/Chicago:20260425T110000
DTEND;TZID=America/Chicago:20260425T140000
DTSTAMP:20260425T100325
CREATED:20260328T181404Z
LAST-MODIFIED:20260415T201005Z
UID:2590-1777114800-1777125600@willbees.org
SUMMARY:Bolingbrook 2026 Arbor Day Celebration
DESCRIPTION:To volunteer to help\, contact Anthony Merkel (a_merkel@yahoo.com) or Fran Miller (fron1522@gmail.com). It is a great experience.
URL:https://willbees.org/event/bolingbrook-2026-arbor-day-celebration/
LOCATION:375 W. Briarcliff Road\, Bolingbrook\, 375 W Briarcliff Road\, Bolingbrook\, IL\, 60440\, United States
ATTACH;FMTTYPE=image/png:https://willbees.org/wp-content/uploads/2026/04/BolingbrookArborDay2026.png
ORGANIZER;CN="Anthoy Merkel":MAILTO:a_merkel@yahoo.com
END:VEVENT
END:VCALENDAR