BEGIN:VCALENDAR
VERSION:2.0
PRODID:-//Will County Beekeepers Association - ECPv6.15.20//NONSGML v1.0//EN
CALSCALE:GREGORIAN
METHOD:PUBLISH
X-ORIGINAL-URL:https://willbees.org
X-WR-CALDESC:Events for Will County Beekeepers Association
REFRESH-INTERVAL;VALUE=DURATION:PT1H
X-Robots-Tag:noindex
X-PUBLISHED-TTL:PT1H
BEGIN:VTIMEZONE
TZID:America/Chicago
BEGIN:DAYLIGHT
TZOFFSETFROM:-0600
TZOFFSETTO:-0500
TZNAME:CDT
DTSTART:20240310T080000
END:DAYLIGHT
BEGIN:STANDARD
TZOFFSETFROM:-0500
TZOFFSETTO:-0600
TZNAME:CST
DTSTART:20241103T070000
END:STANDARD
BEGIN:DAYLIGHT
TZOFFSETFROM:-0600
TZOFFSETTO:-0500
TZNAME:CDT
DTSTART:20250309T080000
END:DAYLIGHT
BEGIN:STANDARD
TZOFFSETFROM:-0500
TZOFFSETTO:-0600
TZNAME:CST
DTSTART:20251102T070000
END:STANDARD
BEGIN:DAYLIGHT
TZOFFSETFROM:-0600
TZOFFSETTO:-0500
TZNAME:CDT
DTSTART:20260308T080000
END:DAYLIGHT
BEGIN:STANDARD
TZOFFSETFROM:-0500
TZOFFSETTO:-0600
TZNAME:CST
DTSTART:20261101T070000
END:STANDARD
END:VTIMEZONE
BEGIN:VEVENT
DTSTART;TZID=America/Chicago:20250914T150000
DTEND;TZID=America/Chicago:20250914T170000
DTSTAMP:20260421T063517
CREATED:20250827T055327Z
LAST-MODIFIED:20250827T063654Z
UID:2412-1757862000-1757869200@willbees.org
SUMMARY:Field Day at Dennis Wisnosky Apiary
DESCRIPTION:Attendees must bring their own personal protective equipment and hive tool. \nA waiver and assumption of risk agreement form must be filled out and signed. A printable copy is available here. \nRSVPs are requested (please send to willbeesorg@gmail.com). \nMessage from Dennis: \n2025 WillBees September 14th Field Days – bring the kids-grandkids. 3PM to 5PM for the official WillBees hive inspection and decision on winterizing. And\, there is more. \n26153 W Renwick Rd\nPlainfield\, IL \nWillBees Field Days are about learning how to manage our honeybees. And\, on this Apiary\, there is a lighted pavilion\, walking trails and a 3 acre lake stocked with Large Mouth Bass\, Blue Gill and Channel Cat. If you want to fish\, or just have fun\, I have boats\, but fishing from the shore is very good.  You may keep what you catch. I have been told to harvest. But\, I have not. I have many fishing rods and lures. Or bring your own gear. \nThere are also giant Grass Carp – don’t let them scare you. They are Vegans. \nI will have water\, beer\, some of my Mead and Smores material if you would like to hang around\, bring your own picnic fixings.  There is a grill. The sunsets are typically spectacular. \nMost of our Field Days have been “what is going on – Let’s count the mites.” Last year at my Plainfield Apiary\, there were virtually no mites counted. But\, I ended up with only one live hive of honeybees in May. What went wrong? \nI have 4 Langstroth hives. The two eight frames are doing spectacular. The ten frames not so much\, including one that overwintered. I had 3 swarms. God was watching and waiting for me to arrive. I witnessed all three of them. Two of them were accessible. Lucky Fran. I called her and the girls were hers. \nI also have a science experiment. Of my original 4 Slovenian families. 2 have survived as feral colonies for several years. No treatments\, no food\, nothing. They are there and are much more docile than the Langies. Maybe Dave sold me all Russians. \nDave has agreed – bless him\, to do the inspection and to provide advice on what to do and maybe even DO IT in real time. Split\, combine. I dunno. \nThe Apiary 26153 W Renwick Rd Plainfield\, Il is the corner of Renwick Road and County Line Road.  Your GPS will take you to the horse farm next door.  Renwick Road is E – W. The County has installed curve markers on the South side of Renwick Road.  My driveway is between the last 2 curve markers going West on Renwick and the first 2 curve markers going East.  Look up the address on Google Earth and you will see the lake.   \nI will have American flags at the gate. And\, thanks to Keith\, you will see old glory flying in the middle of the\nproperty. \nHope to see you then.
URL:https://willbees.org/event/field-day-hosted-by-dennis-wisnosky/
LOCATION:Dennis Wisnosky Apiary\, 26195 W Renwick Road\, Plainfield\, IL\, United States
END:VEVENT
BEGIN:VEVENT
DTSTART;TZID=America/Chicago:20250917T190000
DTEND;TZID=America/Chicago:20250917T210000
DTSTAMP:20260421T063517
CREATED:20250104T233153Z
LAST-MODIFIED:20250104T233153Z
UID:2086-1758135600-1758142800@willbees.org
SUMMARY:Association Meeting 9-17-2025
DESCRIPTION:Come to our September monthly Membership meeting to hear local and national beekeeping news\, see presentations on bee biology and hive management\, engage in discussions with other bee-interested people\, and share stories with mentors. All ages and experience levels welcome. Your first meeting requires no dues.
URL:https://willbees.org/event/association-meeting-9-17-2025/
LOCATION:Will County Farm Bureau Building\, 100 Manhattan Rd Joliet\, IL 60433\, Joliet\, IL\, 60433\, United States
END:VEVENT
END:VCALENDAR